BEGIN:VCALENDAR
VERSION:2.0
PRODID:-//West Brunswick Tennis Club - ECPv6.15.20//NONSGML v1.0//EN
CALSCALE:GREGORIAN
METHOD:PUBLISH
X-ORIGINAL-URL:https://www.westbrunswicktennisclub.org.au
X-WR-CALDESC:Events for West Brunswick Tennis Club
REFRESH-INTERVAL;VALUE=DURATION:PT1H
X-Robots-Tag:noindex
X-PUBLISHED-TTL:PT1H
BEGIN:VTIMEZONE
TZID:Australia/Melbourne
BEGIN:STANDARD
TZOFFSETFROM:+1100
TZOFFSETTO:+1000
TZNAME:AEST
DTSTART:20240406T160000
END:STANDARD
BEGIN:DAYLIGHT
TZOFFSETFROM:+1000
TZOFFSETTO:+1100
TZNAME:AEDT
DTSTART:20241005T160000
END:DAYLIGHT
BEGIN:STANDARD
TZOFFSETFROM:+1100
TZOFFSETTO:+1000
TZNAME:AEST
DTSTART:20250405T160000
END:STANDARD
BEGIN:DAYLIGHT
TZOFFSETFROM:+1000
TZOFFSETTO:+1100
TZNAME:AEDT
DTSTART:20251004T160000
END:DAYLIGHT
BEGIN:STANDARD
TZOFFSETFROM:+1100
TZOFFSETTO:+1000
TZNAME:AEST
DTSTART:20260404T160000
END:STANDARD
BEGIN:DAYLIGHT
TZOFFSETFROM:+1000
TZOFFSETTO:+1100
TZNAME:AEDT
DTSTART:20261003T160000
END:DAYLIGHT
END:VTIMEZONE
BEGIN:VEVENT
DTSTART;TZID=Australia/Melbourne:20250911T190000
DTEND;TZID=Australia/Melbourne:20250911T213000
DTSTAMP:20260421T012916
CREATED:20250805T074645Z
LAST-MODIFIED:20250805T075817Z
UID:3256-1757617200-1757626200@www.westbrunswicktennisclub.org.au
SUMMARY:NSNTA Mens R6 Spring 2025
DESCRIPTION:The season is scheduled through to 27 November inclusive of two weeks of finals. See the WBTC comp page for home court roster\, key duty details. For details on all fixtures\, teams\, clubs and schedules please see the NSNTA.org website.
URL:https://www.westbrunswicktennisclub.org.au/event/nsnta-mens-r6-spring-2025/
CATEGORIES:NSNTA,NSNTA Mens
END:VEVENT
END:VCALENDAR