BEGIN:VCALENDAR
VERSION:2.0
PRODID:-//West Brunswick Tennis Club - ECPv6.15.20//NONSGML v1.0//EN
CALSCALE:GREGORIAN
METHOD:PUBLISH
X-WR-CALNAME:West Brunswick Tennis Club
X-ORIGINAL-URL:https://www.westbrunswicktennisclub.org.au
X-WR-CALDESC:Events for West Brunswick Tennis Club
REFRESH-INTERVAL;VALUE=DURATION:PT1H
X-Robots-Tag:noindex
X-PUBLISHED-TTL:PT1H
BEGIN:VTIMEZONE
TZID:Australia/Melbourne
BEGIN:STANDARD
TZOFFSETFROM:+1100
TZOFFSETTO:+1000
TZNAME:AEST
DTSTART:20240406T160000
END:STANDARD
BEGIN:DAYLIGHT
TZOFFSETFROM:+1000
TZOFFSETTO:+1100
TZNAME:AEDT
DTSTART:20241005T160000
END:DAYLIGHT
BEGIN:STANDARD
TZOFFSETFROM:+1100
TZOFFSETTO:+1000
TZNAME:AEST
DTSTART:20250405T160000
END:STANDARD
BEGIN:DAYLIGHT
TZOFFSETFROM:+1000
TZOFFSETTO:+1100
TZNAME:AEDT
DTSTART:20251004T160000
END:DAYLIGHT
BEGIN:STANDARD
TZOFFSETFROM:+1100
TZOFFSETTO:+1000
TZNAME:AEST
DTSTART:20260404T160000
END:STANDARD
BEGIN:DAYLIGHT
TZOFFSETFROM:+1000
TZOFFSETTO:+1100
TZNAME:AEDT
DTSTART:20261003T160000
END:DAYLIGHT
END:VTIMEZONE
BEGIN:VEVENT
DTSTART;TZID=Australia/Melbourne:20251001T190000
DTEND;TZID=Australia/Melbourne:20251001T213000
DTSTAMP:20260420T225158
CREATED:20250805T074557Z
LAST-MODIFIED:20250805T080005Z
UID:3244-1759345200-1759354200@www.westbrunswicktennisclub.org.au
SUMMARY:NSNTA Mixed R8 Spring 2025
DESCRIPTION:The season is scheduled through to 26 November inclusive of two weeks of finals. See the WBTC comp page for home court roster\, key duty details. For details on all fixtures\, teams\, clubs and schedules please see the NSNTA.org website.
URL:https://www.westbrunswicktennisclub.org.au/event/nsnta-mixed-r8-spring-2025/
CATEGORIES:NSNTA,NSNTA Mixed
END:VEVENT
BEGIN:VEVENT
DTSTART;TZID=Australia/Melbourne:20251002T190000
DTEND;TZID=Australia/Melbourne:20251002T213000
DTSTAMP:20260420T225158
CREATED:20250805T074815Z
LAST-MODIFIED:20250805T075807Z
UID:3258-1759431600-1759440600@www.westbrunswicktennisclub.org.au
SUMMARY:NSNTA Mens R8 Spring 2025
DESCRIPTION:The season is scheduled through to 27 November inclusive of two weeks of finals. See the WBTC comp page for home court roster\, key duty details. For details on all fixtures\, teams\, clubs and schedules please see the NSNTA.org website.
URL:https://www.westbrunswicktennisclub.org.au/event/nsnta-mens-r8-spring-2025/
CATEGORIES:NSNTA,NSNTA Mens
END:VEVENT
BEGIN:VEVENT
DTSTART;TZID=Australia/Melbourne:20251007T190000
DTEND;TZID=Australia/Melbourne:20251007T213000
DTSTAMP:20260420T225158
CREATED:20250805T074512Z
LAST-MODIFIED:20250805T075400Z
UID:3232-1759863600-1759872600@www.westbrunswicktennisclub.org.au
SUMMARY:NSNTA Ladies R10 Spring 2025
DESCRIPTION:The season is scheduled through to 25 November inclusive of two weeks of finals. See the WBTC comp page for home court roster\, key duty details. For details on all fixtures\, teams\, clubs and schedules please see the NSNTA.org website.
URL:https://www.westbrunswicktennisclub.org.au/event/nsnta-ladies-r10-spring-2025/
CATEGORIES:NSNTA,NSNTA Ladies
END:VEVENT
BEGIN:VEVENT
DTSTART;TZID=Australia/Melbourne:20251008T190000
DTEND;TZID=Australia/Melbourne:20251008T213000
DTSTAMP:20260420T225158
CREATED:20250805T074557Z
LAST-MODIFIED:20250805T075958Z
UID:3245-1759950000-1759959000@www.westbrunswicktennisclub.org.au
SUMMARY:NSNTA Mixed R9 Spring 2025
DESCRIPTION:The season is scheduled through to 26 November inclusive of two weeks of finals. See the WBTC comp page for home court roster\, key duty details. For details on all fixtures\, teams\, clubs and schedules please see the NSNTA.org website.
URL:https://www.westbrunswicktennisclub.org.au/event/nsnta-mixed-r9-spring-2025/
CATEGORIES:NSNTA,NSNTA Mixed
END:VEVENT
BEGIN:VEVENT
DTSTART;TZID=Australia/Melbourne:20251009T190000
DTEND;TZID=Australia/Melbourne:20251009T213000
DTSTAMP:20260420T225158
CREATED:20250805T074815Z
LAST-MODIFIED:20250805T075802Z
UID:3259-1760036400-1760045400@www.westbrunswicktennisclub.org.au
SUMMARY:NSNTA Mens R9 Spring 2025
DESCRIPTION:The season is scheduled through to 27 November inclusive of two weeks of finals. See the WBTC comp page for home court roster\, key duty details. For details on all fixtures\, teams\, clubs and schedules please see the NSNTA.org website.
URL:https://www.westbrunswicktennisclub.org.au/event/nsnta-mens-r9-spring-2025/
CATEGORIES:NSNTA,NSNTA Mens
END:VEVENT
BEGIN:VEVENT
DTSTART;TZID=Australia/Melbourne:20251014T190000
DTEND;TZID=Australia/Melbourne:20251014T213000
DTSTAMP:20260420T225158
CREATED:20250805T074527Z
LAST-MODIFIED:20250805T075400Z
UID:3233-1760468400-1760477400@www.westbrunswicktennisclub.org.au
SUMMARY:NSNTA Ladies R11 Spring 2025
DESCRIPTION:The season is scheduled through to 25 November inclusive of two weeks of finals. See the WBTC comp page for home court roster\, key duty details. For details on all fixtures\, teams\, clubs and schedules please see the NSNTA.org website.
URL:https://www.westbrunswicktennisclub.org.au/event/nsnta-ladies-r11-spring-2025/
CATEGORIES:NSNTA,NSNTA Ladies
END:VEVENT
BEGIN:VEVENT
DTSTART;TZID=Australia/Melbourne:20251015T190000
DTEND;TZID=Australia/Melbourne:20251015T213000
DTSTAMP:20260420T225158
CREATED:20250805T074557Z
LAST-MODIFIED:20250805T075947Z
UID:3246-1760554800-1760563800@www.westbrunswicktennisclub.org.au
SUMMARY:NSNTA Mixed R10 Spring 2025
DESCRIPTION:The season is scheduled through to 26 November inclusive of two weeks of finals. See the WBTC comp page for home court roster\, key duty details. For details on all fixtures\, teams\, clubs and schedules please see the NSNTA.org website.
URL:https://www.westbrunswicktennisclub.org.au/event/nsnta-mixed-r10-spring-2025/
CATEGORIES:NSNTA,NSNTA Mixed
END:VEVENT
BEGIN:VEVENT
DTSTART;TZID=Australia/Melbourne:20251016T190000
DTEND;TZID=Australia/Melbourne:20251016T213000
DTSTAMP:20260420T225158
CREATED:20250805T074815Z
LAST-MODIFIED:20250805T075757Z
UID:3260-1760641200-1760650200@www.westbrunswicktennisclub.org.au
SUMMARY:NSNTA Mens R10 Spring 2025
DESCRIPTION:The season is scheduled through to 27 November inclusive of two weeks of finals. See the WBTC comp page for home court roster\, key duty details. For details on all fixtures\, teams\, clubs and schedules please see the NSNTA.org website.
URL:https://www.westbrunswicktennisclub.org.au/event/nsnta-mens-r10-spring-2025/
CATEGORIES:NSNTA,NSNTA Mens
END:VEVENT
BEGIN:VEVENT
DTSTART;TZID=Australia/Melbourne:20251021T190000
DTEND;TZID=Australia/Melbourne:20251021T213000
DTSTAMP:20260420T225158
CREATED:20250805T074527Z
LAST-MODIFIED:20250805T075400Z
UID:3234-1761073200-1761082200@www.westbrunswicktennisclub.org.au
SUMMARY:NSNTA Ladies R12 Spring 2025
DESCRIPTION:The season is scheduled through to 25 November inclusive of two weeks of finals. See the WBTC comp page for home court roster\, key duty details. For details on all fixtures\, teams\, clubs and schedules please see the NSNTA.org website.
URL:https://www.westbrunswicktennisclub.org.au/event/nsnta-ladies-r12-spring-2025/
CATEGORIES:NSNTA,NSNTA Ladies
END:VEVENT
BEGIN:VEVENT
DTSTART;TZID=Australia/Melbourne:20251022T190000
DTEND;TZID=Australia/Melbourne:20251022T213000
DTSTAMP:20260420T225158
CREATED:20250805T074557Z
LAST-MODIFIED:20250805T075941Z
UID:3247-1761159600-1761168600@www.westbrunswicktennisclub.org.au
SUMMARY:NSNTA Mixed R11 Spring 2025
DESCRIPTION:The season is scheduled through to 26 November inclusive of two weeks of finals. See the WBTC comp page for home court roster\, key duty details. For details on all fixtures\, teams\, clubs and schedules please see the NSNTA.org website.
URL:https://www.westbrunswicktennisclub.org.au/event/nsnta-mixed-r11-spring-2025/
CATEGORIES:NSNTA,NSNTA Mixed
END:VEVENT
BEGIN:VEVENT
DTSTART;TZID=Australia/Melbourne:20251023T190000
DTEND;TZID=Australia/Melbourne:20251023T213000
DTSTAMP:20260420T225158
CREATED:20250805T074816Z
LAST-MODIFIED:20250805T075743Z
UID:3261-1761246000-1761255000@www.westbrunswicktennisclub.org.au
SUMMARY:NSNTA Mens R11 Spring 2025
DESCRIPTION:The season is scheduled through to 27 November inclusive of two weeks of finals. See the WBTC comp page for home court roster\, key duty details. For details on all fixtures\, teams\, clubs and schedules please see the NSNTA.org website.
URL:https://www.westbrunswicktennisclub.org.au/event/nsnta-mens-r11-spring-2025/
CATEGORIES:NSNTA,NSNTA Mens
END:VEVENT
BEGIN:VEVENT
DTSTART;TZID=Australia/Melbourne:20251028T190000
DTEND;TZID=Australia/Melbourne:20251028T213000
DTSTAMP:20260420T225158
CREATED:20250805T074527Z
LAST-MODIFIED:20250805T075400Z
UID:3235-1761678000-1761687000@www.westbrunswicktennisclub.org.au
SUMMARY:NSNTA Ladies R13 Spring 2025
DESCRIPTION:The season is scheduled through to 25 November inclusive of two weeks of finals. See the WBTC comp page for home court roster\, key duty details. For details on all fixtures\, teams\, clubs and schedules please see the NSNTA.org website.
URL:https://www.westbrunswicktennisclub.org.au/event/nsnta-ladies-r13-spring-2025/
CATEGORIES:NSNTA,NSNTA Ladies
END:VEVENT
BEGIN:VEVENT
DTSTART;TZID=Australia/Melbourne:20251029T190000
DTEND;TZID=Australia/Melbourne:20251029T213000
DTSTAMP:20260420T225158
CREATED:20250805T074629Z
LAST-MODIFIED:20250805T075933Z
UID:3248-1761764400-1761773400@www.westbrunswicktennisclub.org.au
SUMMARY:NSNTA Mixed R12 Spring 2025
DESCRIPTION:The season is scheduled through to 26 November inclusive of two weeks of finals. See the WBTC comp page for home court roster\, key duty details. For details on all fixtures\, teams\, clubs and schedules please see the NSNTA.org website.
URL:https://www.westbrunswicktennisclub.org.au/event/nsnta-mixed-r12-spring-2025/
CATEGORIES:NSNTA,NSNTA Mixed
END:VEVENT
BEGIN:VEVENT
DTSTART;TZID=Australia/Melbourne:20251030T190000
DTEND;TZID=Australia/Melbourne:20251030T213000
DTSTAMP:20260420T225158
CREATED:20250805T074816Z
LAST-MODIFIED:20250805T075737Z
UID:3262-1761850800-1761859800@www.westbrunswicktennisclub.org.au
SUMMARY:NSNTA Mens R12 Spring 2025
DESCRIPTION:The season is scheduled through to 27 November inclusive of two weeks of finals. See the WBTC comp page for home court roster\, key duty details. For details on all fixtures\, teams\, clubs and schedules please see the NSNTA.org website.
URL:https://www.westbrunswicktennisclub.org.au/event/nsnta-mens-r12-spring-2025/
CATEGORIES:NSNTA,NSNTA Mens
END:VEVENT
END:VCALENDAR