BEGIN:VCALENDAR
VERSION:2.0
PRODID:-//West Brunswick Tennis Club - ECPv6.15.20//NONSGML v1.0//EN
CALSCALE:GREGORIAN
METHOD:PUBLISH
X-ORIGINAL-URL:https://www.westbrunswicktennisclub.org.au
X-WR-CALDESC:Events for West Brunswick Tennis Club
REFRESH-INTERVAL;VALUE=DURATION:PT1H
X-Robots-Tag:noindex
X-PUBLISHED-TTL:PT1H
BEGIN:VTIMEZONE
TZID:Australia/Melbourne
BEGIN:STANDARD
TZOFFSETFROM:+1100
TZOFFSETTO:+1000
TZNAME:AEST
DTSTART:20240406T160000
END:STANDARD
BEGIN:DAYLIGHT
TZOFFSETFROM:+1000
TZOFFSETTO:+1100
TZNAME:AEDT
DTSTART:20241005T160000
END:DAYLIGHT
BEGIN:STANDARD
TZOFFSETFROM:+1100
TZOFFSETTO:+1000
TZNAME:AEST
DTSTART:20250405T160000
END:STANDARD
BEGIN:DAYLIGHT
TZOFFSETFROM:+1000
TZOFFSETTO:+1100
TZNAME:AEDT
DTSTART:20251004T160000
END:DAYLIGHT
BEGIN:STANDARD
TZOFFSETFROM:+1100
TZOFFSETTO:+1000
TZNAME:AEST
DTSTART:20260404T160000
END:STANDARD
BEGIN:DAYLIGHT
TZOFFSETFROM:+1000
TZOFFSETTO:+1100
TZNAME:AEDT
DTSTART:20261003T160000
END:DAYLIGHT
END:VTIMEZONE
BEGIN:VEVENT
DTSTART;TZID=Australia/Melbourne:20250823T130000
DTEND;TZID=Australia/Melbourne:20250823T170000
DTSTAMP:20260420T065538
CREATED:20250604T020835Z
LAST-MODIFIED:20250604T022308Z
UID:3115-1755954000-1755968400@www.westbrunswicktennisclub.org.au
SUMMARY:Tennis Vic - Pennant R15 - 2025
DESCRIPTION:Round 15 of the Tennis Victoria Pennant competition for the 2025 season. The season is scheduled through to 13 September inclusive of four weeks of finals.\nSee the WBTC comp page here for home court roster and other info.\nFor details on all fixtures\, teams\, clubs and schedules please go here.
URL:https://www.westbrunswicktennisclub.org.au/event/tennis-vic-pennant-r15-2025/
CATEGORIES:Pennant
ORGANIZER;CN="Tennis Victoria":MAILTO:leaguesvic@tennis.com.au
END:VEVENT
BEGIN:VEVENT
DTSTART;TZID=Australia/Melbourne:20250816T130000
DTEND;TZID=Australia/Melbourne:20250816T170000
DTSTAMP:20260420T065538
CREATED:20250604T020747Z
LAST-MODIFIED:20250604T022507Z
UID:3113-1755349200-1755363600@www.westbrunswicktennisclub.org.au
SUMMARY:Tennis Vic - Pennant R14 - 2025
DESCRIPTION:Round 14 of the Tennis Victoria Pennant competition for the 2025 season. The season is scheduled through to 13 September inclusive of four weeks of finals.\nSee the WBTC comp page here for home court roster and other info.\nFor details on all fixtures\, teams\, clubs and schedules please go here.
URL:https://www.westbrunswicktennisclub.org.au/event/tennis-vic-pennant-r14-2025/
CATEGORIES:Pennant
ORGANIZER;CN="Tennis Victoria":MAILTO:leaguesvic@tennis.com.au
END:VEVENT
BEGIN:VEVENT
DTSTART;TZID=Australia/Melbourne:20250809T130000
DTEND;TZID=Australia/Melbourne:20250809T170000
DTSTAMP:20260420T065538
CREATED:20250604T020653Z
LAST-MODIFIED:20250604T022458Z
UID:3111-1754744400-1754758800@www.westbrunswicktennisclub.org.au
SUMMARY:Tennis Vic - Pennant R13 - 2025
DESCRIPTION:Round 13 of the Tennis Victoria Pennant competition for the 2025 season. The season is scheduled through to 13 September inclusive of four weeks of finals.\nSee the WBTC comp page here for home court roster and other info.\nFor details on all fixtures\, teams\, clubs and schedules please go here.
URL:https://www.westbrunswicktennisclub.org.au/event/tennis-vic-pennant-r13-2025/
CATEGORIES:Pennant
ORGANIZER;CN="Tennis Victoria":MAILTO:leaguesvic@tennis.com.au
END:VEVENT
BEGIN:VEVENT
DTSTART;TZID=Australia/Melbourne:20250802T130000
DTEND;TZID=Australia/Melbourne:20250802T170000
DTSTAMP:20260420T065538
CREATED:20250604T020547Z
LAST-MODIFIED:20250604T020547Z
UID:3109-1754139600-1754154000@www.westbrunswicktennisclub.org.au
SUMMARY:Tennis Vic - Pennant R12 - 2025
DESCRIPTION:Round 12 of the Tennis Victoria Pennant competition for the 2025 season. The season is scheduled through to 13 September inclusive of four weeks of finals.\nSee the WBTC comp page here for home court roster and other info.\nFor details on all fixtures\, teams\, clubs and schedules please go here.
URL:https://www.westbrunswicktennisclub.org.au/event/tennis-vic-pennant-r12-2025/
CATEGORIES:Pennant
ORGANIZER;CN="Tennis Victoria":MAILTO:leaguesvic@tennis.com.au
END:VEVENT
BEGIN:VEVENT
DTSTART;TZID=Australia/Melbourne:20250726T130000
DTEND;TZID=Australia/Melbourne:20250726T170000
DTSTAMP:20260420T065538
CREATED:20250604T020013Z
LAST-MODIFIED:20250604T021015Z
UID:3107-1753534800-1753549200@www.westbrunswicktennisclub.org.au
SUMMARY:Tennis Vic - Pennant R11 - 2025
DESCRIPTION:Round 11 of the Tennis Victoria Pennant competition for the 2025 season. The season is scheduled through to 13 September inclusive of four weeks of finals.\nSee the WBTC comp page here for home court roster and other info.\nFor details on all fixtures\, teams\, clubs and schedules please go here.
URL:https://www.westbrunswicktennisclub.org.au/event/tennis-vic-pennant-r11-2025/
CATEGORIES:Pennant
ORGANIZER;CN="Tennis Victoria":MAILTO:leaguesvic@tennis.com.au
END:VEVENT
BEGIN:VEVENT
DTSTART;TZID=Australia/Melbourne:20250719T130000
DTEND;TZID=Australia/Melbourne:20250719T170000
DTSTAMP:20260420T065538
CREATED:20250604T015914Z
LAST-MODIFIED:20250604T022446Z
UID:3105-1752930000-1752944400@www.westbrunswicktennisclub.org.au
SUMMARY:Tennis Vic - Pennant R10 - 2025
DESCRIPTION:Round 10 of the Tennis Victoria Pennant competition for the 2025 season. The season is scheduled through to 13 September inclusive of four weeks of finals.\nSee the WBTC comp page here for home court roster and other info.\nFor details on all fixtures\, teams\, clubs and schedules please go here.
URL:https://www.westbrunswicktennisclub.org.au/event/tennis-vic-pennant-r10-2025/
CATEGORIES:Pennant
ORGANIZER;CN="Tennis Victoria":MAILTO:leaguesvic@tennis.com.au
END:VEVENT
BEGIN:VEVENT
DTSTART;TZID=Australia/Melbourne:20250705T130000
DTEND;TZID=Australia/Melbourne:20250705T170000
DTSTAMP:20260420T065538
CREATED:20250604T015808Z
LAST-MODIFIED:20250604T015808Z
UID:3103-1751720400-1751734800@www.westbrunswicktennisclub.org.au
SUMMARY:Tennis Vic - Pennant R9 - 2025
DESCRIPTION:Round 9 of the Tennis Victoria Pennant competition for the 2025 season. The season is scheduled through to 13 September inclusive of four weeks of finals.\nSee the WBTC comp page here for home court roster and other info.\nFor details on all fixtures\, teams\, clubs and schedules please go here.
URL:https://www.westbrunswicktennisclub.org.au/event/tennis-vic-pennant-r9-2025/
CATEGORIES:Pennant
ORGANIZER;CN="Tennis Victoria":MAILTO:leaguesvic@tennis.com.au
END:VEVENT
BEGIN:VEVENT
DTSTART;TZID=Australia/Melbourne:20250628T130000
DTEND;TZID=Australia/Melbourne:20250628T170000
DTSTAMP:20260420T065538
CREATED:20250604T015701Z
LAST-MODIFIED:20250604T015701Z
UID:3101-1751115600-1751130000@www.westbrunswicktennisclub.org.au
SUMMARY:Tennis Vic - Pennant R8 - 2025
DESCRIPTION:Round 8 of the Tennis Victoria Pennant competition for the 2025 season. The season is scheduled through to 13 September inclusive of four weeks of finals.\nSee the WBTC comp page here for home court roster and other info.\nFor details on all fixtures\, teams\, clubs and schedules please go here.
URL:https://www.westbrunswicktennisclub.org.au/event/tennis-vic-pennant-r8-2025/
CATEGORIES:Pennant
ORGANIZER;CN="Tennis Victoria":MAILTO:leaguesvic@tennis.com.au
END:VEVENT
BEGIN:VEVENT
DTSTART;TZID=Australia/Melbourne:20250621T130000
DTEND;TZID=Australia/Melbourne:20250621T170000
DTSTAMP:20260420T065538
CREATED:20250604T015542Z
LAST-MODIFIED:20250604T015542Z
UID:3099-1750510800-1750525200@www.westbrunswicktennisclub.org.au
SUMMARY:Tennis Vic - Pennant R7 - 2025
DESCRIPTION:Round 7 of the Tennis Victoria Pennant competition for the 2025 season. The season is scheduled through to 13 September inclusive of four weeks of finals.\nSee the WBTC comp page here for home court roster and other info.\nFor details on all fixtures\, teams\, clubs and schedules please go here.
URL:https://www.westbrunswicktennisclub.org.au/event/tennis-vic-pennant-r7-2025/
CATEGORIES:Pennant
ORGANIZER;CN="Tennis Victoria":MAILTO:leaguesvic@tennis.com.au
END:VEVENT
BEGIN:VEVENT
DTSTART;TZID=Australia/Melbourne:20250614T130000
DTEND;TZID=Australia/Melbourne:20250614T170000
DTSTAMP:20260420T065538
CREATED:20250604T015342Z
LAST-MODIFIED:20250604T022421Z
UID:3097-1749906000-1749920400@www.westbrunswicktennisclub.org.au
SUMMARY:Tennis Vic - Pennant R6 - 2025
DESCRIPTION:Round 6 of the Tennis Victoria Pennant competition for the 2025 season. The season is scheduled through to 13 September inclusive of four weeks of finals.\nSee the WBTC comp page here for home court roster and other info.\nFor details on all fixtures\, teams\, clubs and schedules please go here.
URL:https://www.westbrunswicktennisclub.org.au/event/tennis-vic-pennant-r6-2025/
CATEGORIES:Pennant
ORGANIZER;CN="Tennis Victoria":MAILTO:leaguesvic@tennis.com.au
END:VEVENT
BEGIN:VEVENT
DTSTART;TZID=Australia/Melbourne:20250503T130000
DTEND;TZID=Australia/Melbourne:20250503T170000
DTSTAMP:20260420T065538
CREATED:20250414T032930Z
LAST-MODIFIED:20250414T032930Z
UID:3033-1746277200-1746291600@www.westbrunswicktennisclub.org.au
SUMMARY:Tennis Vic - Pennant R1 - 2025
DESCRIPTION:Round 1 of the Tennis Victoria Pennant competition for the 2025 season. The season is scheduled through to 13 September inclusive of four weeks of finals.\nSee the WBTC comp page here for home court roster and other info.\nFor details on all fixtures\, teams\, clubs and schedules please go here.
URL:https://www.westbrunswicktennisclub.org.au/event/tennis-vic-pennant-r1-2025/
CATEGORIES:Pennant
ORGANIZER;CN="Tennis Victoria":MAILTO:leaguesvic@tennis.com.au
END:VEVENT
END:VCALENDAR