BEGIN:VCALENDAR
VERSION:2.0
PRODID:-//West Brunswick Tennis Club - ECPv6.15.20//NONSGML v1.0//EN
CALSCALE:GREGORIAN
METHOD:PUBLISH
X-ORIGINAL-URL:https://www.westbrunswicktennisclub.org.au
X-WR-CALDESC:Events for West Brunswick Tennis Club
REFRESH-INTERVAL;VALUE=DURATION:PT1H
X-Robots-Tag:noindex
X-PUBLISHED-TTL:PT1H
BEGIN:VTIMEZONE
TZID:Australia/Melbourne
BEGIN:STANDARD
TZOFFSETFROM:+1100
TZOFFSETTO:+1000
TZNAME:AEST
DTSTART:20240406T160000
END:STANDARD
BEGIN:DAYLIGHT
TZOFFSETFROM:+1000
TZOFFSETTO:+1100
TZNAME:AEDT
DTSTART:20241005T160000
END:DAYLIGHT
BEGIN:STANDARD
TZOFFSETFROM:+1100
TZOFFSETTO:+1000
TZNAME:AEST
DTSTART:20250405T160000
END:STANDARD
BEGIN:DAYLIGHT
TZOFFSETFROM:+1000
TZOFFSETTO:+1100
TZNAME:AEDT
DTSTART:20251004T160000
END:DAYLIGHT
BEGIN:STANDARD
TZOFFSETFROM:+1100
TZOFFSETTO:+1000
TZNAME:AEST
DTSTART:20260404T160000
END:STANDARD
BEGIN:DAYLIGHT
TZOFFSETFROM:+1000
TZOFFSETTO:+1100
TZNAME:AEDT
DTSTART:20261003T160000
END:DAYLIGHT
END:VTIMEZONE
BEGIN:VEVENT
DTSTART;TZID=Australia/Melbourne:20250507T190000
DTEND;TZID=Australia/Melbourne:20250507T220000
DTSTAMP:20260426T031658
CREATED:20250110T040823Z
LAST-MODIFIED:20250110T040823Z
UID:2706-1746644400-1746655200@www.westbrunswicktennisclub.org.au
SUMMARY:NSNTA - Mixed R13 - Autumn2025
DESCRIPTION:Round 13 of the mixed NSNTA competition for the Autumn 2025 season. The season is scheduled through to 28 May inclusive of two weeks of finals.  \nSee the WBTC comp page here for home court roster and key duty details.  \nFor details on all fixtures\, teams\, clubs and schedules please go here. 
URL:https://www.westbrunswicktennisclub.org.au/event/nsnta-mixed-r13-autumn2025/
CATEGORIES:NSNTA,NSNTA Mixed
END:VEVENT
BEGIN:VEVENT
DTSTART;TZID=Australia/Melbourne:20250514T190000
DTEND;TZID=Australia/Melbourne:20250514T220000
DTSTAMP:20260426T031658
CREATED:20250110T041030Z
LAST-MODIFIED:20250110T041318Z
UID:2708-1747249200-1747260000@www.westbrunswicktennisclub.org.au
SUMMARY:NSNTA - Mixed R14 - Autumn2025
DESCRIPTION:Round 14 of the mixed NSNTA competition for the Autumn 2025 season. The season is scheduled through to 28 May inclusive of two weeks of finals.  \nSee the WBTC comp page here for home court roster and key duty details.  \nFor details on all fixtures\, teams\, clubs and schedules please go here. 
URL:https://www.westbrunswicktennisclub.org.au/event/nsnta-mixed-r14-autumn2025/
CATEGORIES:NSNTA,NSNTA Mixed
END:VEVENT
BEGIN:VEVENT
DTSTART;TZID=Australia/Melbourne:20250521T190000
DTEND;TZID=Australia/Melbourne:20250521T220000
DTSTAMP:20260426T031658
CREATED:20250110T041703Z
LAST-MODIFIED:20250110T041703Z
UID:2710-1747854000-1747864800@www.westbrunswicktennisclub.org.au
SUMMARY:NSNTA - Mixed SF - Autumn2025
DESCRIPTION:Semi Finals of the mixed NSNTA competition for the Autumn 2025 season. The season is scheduled through to 28 May inclusive of two weeks of finals.  \nSee the WBTC comp page here for home court roster and key duty details.  \nFor details on all fixtures\, teams\, clubs and schedules please go here. 
URL:https://www.westbrunswicktennisclub.org.au/event/nsnta-mixed-sf-autumn2025/
CATEGORIES:NSNTA,NSNTA Mixed
END:VEVENT
BEGIN:VEVENT
DTSTART;TZID=Australia/Melbourne:20250528T190000
DTEND;TZID=Australia/Melbourne:20250528T220000
DTSTAMP:20260426T031658
CREATED:20250110T041851Z
LAST-MODIFIED:20250110T041851Z
UID:2712-1748458800-1748469600@www.westbrunswicktennisclub.org.au
SUMMARY:NSNTA - Mixed GF - Autumn2025
DESCRIPTION:Grand Finals of the mixed NSNTA competition for the Autumn 2025 season. The season is scheduled through to 28 May inclusive of two weeks of finals.  \nSee the WBTC comp page here for home court roster and key duty details.  \nFor details on all fixtures\, teams\, clubs and schedules please go here. 
URL:https://www.westbrunswicktennisclub.org.au/event/nsnta-mixed-gf-autumn2025/
CATEGORIES:NSNTA,NSNTA Mixed
END:VEVENT
END:VCALENDAR